BEGIN:VCALENDAR
VERSION:2.0
PRODID:-//Foro Runners - ECPv6.15.20//NONSGML v1.0//EN
CALSCALE:GREGORIAN
METHOD:PUBLISH
X-WR-CALNAME:Foro Runners
X-ORIGINAL-URL:https://www.fororunners.es
X-WR-CALDESC:Eventos para Foro Runners
REFRESH-INTERVAL;VALUE=DURATION:PT1H
X-Robots-Tag:noindex
X-PUBLISHED-TTL:PT1H
BEGIN:VTIMEZONE
TZID:Europe/Madrid
BEGIN:DAYLIGHT
TZOFFSETFROM:+0100
TZOFFSETTO:+0200
TZNAME:CEST
DTSTART:20250330T010000
END:DAYLIGHT
BEGIN:STANDARD
TZOFFSETFROM:+0200
TZOFFSETTO:+0100
TZNAME:CET
DTSTART:20251026T010000
END:STANDARD
BEGIN:DAYLIGHT
TZOFFSETFROM:+0100
TZOFFSETTO:+0200
TZNAME:CEST
DTSTART:20260329T010000
END:DAYLIGHT
BEGIN:STANDARD
TZOFFSETFROM:+0200
TZOFFSETTO:+0100
TZNAME:CET
DTSTART:20261025T010000
END:STANDARD
BEGIN:DAYLIGHT
TZOFFSETFROM:+0100
TZOFFSETTO:+0200
TZNAME:CEST
DTSTART:20270328T010000
END:DAYLIGHT
BEGIN:STANDARD
TZOFFSETFROM:+0200
TZOFFSETTO:+0100
TZNAME:CET
DTSTART:20271031T010000
END:STANDARD
END:VTIMEZONE
BEGIN:VEVENT
DTSTART;TZID=Europe/Madrid:20260104T110000
DTEND;TZID=Europe/Madrid:20260104T120000
DTSTAMP:20260424T200422
CREATED:20251129T114103Z
LAST-MODIFIED:20251129T114103Z
UID:15829-1767524400-1767528000@www.fororunners.es
SUMMARY:XI Cross del Roscón de San Fernando de Henares
DESCRIPTION:Distancia: 4.5K
URL:https://www.fororunners.es/event/xi-cross-del-roscon-de-san-fernando-de-henares/
LOCATION:San Fernando de Henares (Madrid)
CATEGORIES:Carreras
END:VEVENT
BEGIN:VEVENT
DTSTART;TZID=Europe/Madrid:20260111T094500
DTEND;TZID=Europe/Madrid:20260111T133000
DTSTAMP:20260424T200422
CREATED:20251221T094801Z
LAST-MODIFIED:20251221T094801Z
UID:15912-1768124700-1768138200@www.fororunners.es
SUMMARY:VI Trofeo Amigos del Atletismo de Valdemoro - Gran Premio Splendor
DESCRIPTION:Distancia: 6K
URL:https://www.fororunners.es/event/vi-trofeo-amigos-del-atletismo-de-valdemoro-gran-premio-splendor/
LOCATION:Valdemoro (Madrid)
CATEGORIES:Carreras
END:VEVENT
BEGIN:VEVENT
DTSTART;TZID=Europe/Madrid:20260125T100000
DTEND;TZID=Europe/Madrid:20260125T110000
DTSTAMP:20260424T200422
CREATED:20260115T214745Z
LAST-MODIFIED:20260115T214745Z
UID:16084-1769335200-1769338800@www.fororunners.es
SUMMARY:25º Cross María Moliner
DESCRIPTION:Distancia: 4K
URL:https://www.fororunners.es/event/25o-cross-maria-moliner/
LOCATION:Coslada (Madrid)
CATEGORIES:Carreras
END:VEVENT
BEGIN:VEVENT
DTSTART;TZID=Europe/Madrid:20260125T103000
DTEND;TZID=Europe/Madrid:20260125T140000
DTSTAMP:20260424T200422
CREATED:20260110T171943Z
LAST-MODIFIED:20260110T171943Z
UID:16044-1769337000-1769349600@www.fororunners.es
SUMMARY:XL Cross de Leganés
DESCRIPTION:Distancia: Según categoría
URL:https://www.fororunners.es/event/xl-cross-de-leganes/
LOCATION:Leganés (Madrid)
CATEGORIES:Carreras
END:VEVENT
END:VCALENDAR