BEGIN:VCALENDAR
VERSION:2.0
PRODID:-//Foro Runners - ECPv6.15.20//NONSGML v1.0//EN
CALSCALE:GREGORIAN
METHOD:PUBLISH
X-ORIGINAL-URL:https://www.fororunners.es
X-WR-CALDESC:Eventos para Foro Runners
REFRESH-INTERVAL;VALUE=DURATION:PT1H
X-Robots-Tag:noindex
X-PUBLISHED-TTL:PT1H
BEGIN:VTIMEZONE
TZID:Europe/Madrid
BEGIN:DAYLIGHT
TZOFFSETFROM:+0100
TZOFFSETTO:+0200
TZNAME:CEST
DTSTART:20240331T010000
END:DAYLIGHT
BEGIN:STANDARD
TZOFFSETFROM:+0200
TZOFFSETTO:+0100
TZNAME:CET
DTSTART:20241027T010000
END:STANDARD
BEGIN:DAYLIGHT
TZOFFSETFROM:+0100
TZOFFSETTO:+0200
TZNAME:CEST
DTSTART:20250330T010000
END:DAYLIGHT
BEGIN:STANDARD
TZOFFSETFROM:+0200
TZOFFSETTO:+0100
TZNAME:CET
DTSTART:20251026T010000
END:STANDARD
BEGIN:DAYLIGHT
TZOFFSETFROM:+0100
TZOFFSETTO:+0200
TZNAME:CEST
DTSTART:20260329T010000
END:DAYLIGHT
BEGIN:STANDARD
TZOFFSETFROM:+0200
TZOFFSETTO:+0100
TZNAME:CET
DTSTART:20261025T010000
END:STANDARD
END:VTIMEZONE
BEGIN:VEVENT
DTSTART;TZID=Europe/Madrid:20251102T113000
DTEND;TZID=Europe/Madrid:20251102T123000
DTSTAMP:20260424T234138
CREATED:20251004T221041Z
LAST-MODIFIED:20251004T221041Z
UID:15557-1762083000-1762086600@www.fororunners.es
SUMMARY:66º Trofeo Marathon de Campo a Través
DESCRIPTION:Distancia: 5800 metros
URL:https://www.fororunners.es/event/66o-trofeo-marathon-de-campo-a-traves/
LOCATION:Madrid
CATEGORIES:Carreras
END:VEVENT
BEGIN:VEVENT
DTSTART;TZID=Europe/Madrid:20251116T130000
DTEND;TZID=Europe/Madrid:20251116T143000
DTSTAMP:20260424T234138
CREATED:20251012T103645Z
LAST-MODIFIED:20251012T103645Z
UID:15583-1763298000-1763303400@www.fororunners.es
SUMMARY:61º Cross Canguro
DESCRIPTION:Distancia: 8K
URL:https://www.fororunners.es/event/61o-cross-canguro/
LOCATION:Madrid
CATEGORIES:Carreras
END:VEVENT
BEGIN:VEVENT
DTSTART;TZID=Europe/Madrid:20251130T093000
DTEND;TZID=Europe/Madrid:20251130T103000
DTSTAMP:20260424T234138
CREATED:20251102T165728Z
LAST-MODIFIED:20251102T165728Z
UID:15671-1764495000-1764498600@www.fororunners.es
SUMMARY:XLIII C.I.C. Alcobendas-Comunidad de Madrid Memorial Antonio Rodríguez Benavente
DESCRIPTION:Distancia Cross Popular: 4.075 m
URL:https://www.fororunners.es/event/xliii-c-i-c-alcobendas-comunidad-de-madrid-memorial-antonio-rodriguez-benavente/
LOCATION:Alcobendas (Madrid)
CATEGORIES:Carreras
END:VEVENT
BEGIN:VEVENT
DTSTART;TZID=Europe/Madrid:20251130T120000
DTEND;TZID=Europe/Madrid:20251130T130000
DTSTAMP:20260424T234138
CREATED:20251025T103322Z
LAST-MODIFIED:20251025T103322Z
UID:15630-1764504000-1764507600@www.fororunners.es
SUMMARY:XXII Cross Popular Salvar El Pinar de la Elipa
DESCRIPTION:Distancia: Según Categoría
URL:https://www.fororunners.es/event/xxii-cross-popular-salvar-el-pinar-de-la-elipa/
LOCATION:Madrid
CATEGORIES:Carreras
END:VEVENT
END:VCALENDAR