BEGIN:VCALENDAR
VERSION:2.0
PRODID:-//Foro Runners - ECPv6.15.20//NONSGML v1.0//EN
CALSCALE:GREGORIAN
METHOD:PUBLISH
X-ORIGINAL-URL:https://www.fororunners.es
X-WR-CALDESC:Eventos para Foro Runners
REFRESH-INTERVAL;VALUE=DURATION:PT1H
X-Robots-Tag:noindex
X-PUBLISHED-TTL:PT1H
BEGIN:VTIMEZONE
TZID:Europe/Helsinki
BEGIN:DAYLIGHT
TZOFFSETFROM:+0200
TZOFFSETTO:+0300
TZNAME:EEST
DTSTART:20220327T010000
END:DAYLIGHT
BEGIN:STANDARD
TZOFFSETFROM:+0300
TZOFFSETTO:+0200
TZNAME:EET
DTSTART:20221030T010000
END:STANDARD
BEGIN:DAYLIGHT
TZOFFSETFROM:+0200
TZOFFSETTO:+0300
TZNAME:EEST
DTSTART:20230326T010000
END:DAYLIGHT
BEGIN:STANDARD
TZOFFSETFROM:+0300
TZOFFSETTO:+0200
TZNAME:EET
DTSTART:20231029T010000
END:STANDARD
BEGIN:DAYLIGHT
TZOFFSETFROM:+0200
TZOFFSETTO:+0300
TZNAME:EEST
DTSTART:20240331T010000
END:DAYLIGHT
BEGIN:STANDARD
TZOFFSETFROM:+0300
TZOFFSETTO:+0200
TZNAME:EET
DTSTART:20241027T010000
END:STANDARD
END:VTIMEZONE
BEGIN:VEVENT
DTSTART;TZID=Europe/Helsinki:20231001T093000
DTEND;TZID=Europe/Helsinki:20231001T110000
DTSTAMP:20260424T213037
CREATED:20230904T204608Z
LAST-MODIFIED:20230904T205023Z
UID:12177-1696152600-1696158000@www.fororunners.es
SUMMARY:XXI Kilómetro Vertical (KV) de la Barranca
DESCRIPTION:Distancia: 7 Km. y 993 metros
URL:https://www.fororunners.es/event/xxi-kilometro-vertical-kv-de-la-barranca/
LOCATION:Navacerrada (Madrid)
CATEGORIES:Carreras
END:VEVENT
BEGIN:VEVENT
DTSTART;TZID=Europe/Helsinki:20231007T100000
DTEND;TZID=Europe/Helsinki:20231007T140000
DTSTAMP:20260424T213037
CREATED:20230911T170929Z
LAST-MODIFIED:20230911T171655Z
UID:12224-1696672800-1696687200@www.fororunners.es
SUMMARY:IV Carrera Vertical Torre Garena de Cruz Roja Corredor Norte
DESCRIPTION:Distancia: 900m + 16 pisos (32 tramos de escalera\, 288 escalones)
URL:https://www.fororunners.es/event/iv-carrera-vertical-torregarena/
LOCATION:Alcalá de Henares (Madrid)
CATEGORIES:Carreras
END:VEVENT
END:VCALENDAR