BEGIN:VCALENDAR
VERSION:2.0
PRODID:-//Foro Runners - ECPv6.15.20//NONSGML v1.0//EN
CALSCALE:GREGORIAN
METHOD:PUBLISH
X-WR-CALNAME:Foro Runners
X-ORIGINAL-URL:https://www.fororunners.es
X-WR-CALDESC:Eventos para Foro Runners
REFRESH-INTERVAL;VALUE=DURATION:PT1H
X-Robots-Tag:noindex
X-PUBLISHED-TTL:PT1H
BEGIN:VTIMEZONE
TZID:Europe/Helsinki
BEGIN:DAYLIGHT
TZOFFSETFROM:+0200
TZOFFSETTO:+0300
TZNAME:EEST
DTSTART:20220327T010000
END:DAYLIGHT
BEGIN:STANDARD
TZOFFSETFROM:+0300
TZOFFSETTO:+0200
TZNAME:EET
DTSTART:20221030T010000
END:STANDARD
BEGIN:DAYLIGHT
TZOFFSETFROM:+0200
TZOFFSETTO:+0300
TZNAME:EEST
DTSTART:20230326T010000
END:DAYLIGHT
BEGIN:STANDARD
TZOFFSETFROM:+0300
TZOFFSETTO:+0200
TZNAME:EET
DTSTART:20231029T010000
END:STANDARD
BEGIN:DAYLIGHT
TZOFFSETFROM:+0200
TZOFFSETTO:+0300
TZNAME:EEST
DTSTART:20240331T010000
END:DAYLIGHT
BEGIN:STANDARD
TZOFFSETFROM:+0300
TZOFFSETTO:+0200
TZNAME:EET
DTSTART:20241027T010000
END:STANDARD
END:VTIMEZONE
BEGIN:VEVENT
DTSTART;TZID=Europe/Helsinki:20230903T093000
DTEND;TZID=Europe/Helsinki:20230903T110000
DTSTAMP:20260424T225732
CREATED:20230810T205526Z
LAST-MODIFIED:20230810T210049Z
UID:11998-1693733400-1693738800@www.fororunners.es
SUMMARY:1ª Carrera Vertical de Abantos Memorial David Delgado
DESCRIPTION:Distancia: 4\,90 Km & 810 m D+
URL:https://www.fororunners.es/event/1a-carrera-vertical-de-abantos-memorial-david-delgado/
LOCATION:San Lorenzo de El Escorial (Madrid)
END:VEVENT
END:VCALENDAR