BEGIN:VCALENDAR
VERSION:2.0
PRODID:-//Foro Runners - ECPv6.15.20//NONSGML v1.0//EN
CALSCALE:GREGORIAN
METHOD:PUBLISH
X-WR-CALNAME:Foro Runners
X-ORIGINAL-URL:https://www.fororunners.es
X-WR-CALDESC:Eventos para Foro Runners
REFRESH-INTERVAL;VALUE=DURATION:PT1H
X-Robots-Tag:noindex
X-PUBLISHED-TTL:PT1H
BEGIN:VTIMEZONE
TZID:Europe/Madrid
BEGIN:DAYLIGHT
TZOFFSETFROM:+0100
TZOFFSETTO:+0200
TZNAME:CEST
DTSTART:20250330T010000
END:DAYLIGHT
BEGIN:STANDARD
TZOFFSETFROM:+0200
TZOFFSETTO:+0100
TZNAME:CET
DTSTART:20251026T010000
END:STANDARD
BEGIN:DAYLIGHT
TZOFFSETFROM:+0100
TZOFFSETTO:+0200
TZNAME:CEST
DTSTART:20260329T010000
END:DAYLIGHT
BEGIN:STANDARD
TZOFFSETFROM:+0200
TZOFFSETTO:+0100
TZNAME:CET
DTSTART:20261025T010000
END:STANDARD
BEGIN:DAYLIGHT
TZOFFSETFROM:+0100
TZOFFSETTO:+0200
TZNAME:CEST
DTSTART:20270328T010000
END:DAYLIGHT
BEGIN:STANDARD
TZOFFSETFROM:+0200
TZOFFSETTO:+0100
TZNAME:CET
DTSTART:20271031T010000
END:STANDARD
END:VTIMEZONE
BEGIN:VEVENT
DTSTART;TZID=Europe/Madrid:20260524T100000
DTEND;TZID=Europe/Madrid:20260524T113000
DTSTAMP:20260419T224236
CREATED:20260409T065002Z
LAST-MODIFIED:20260409T065002Z
UID:16720-1779616800-1779622200@www.fororunners.es
SUMMARY:XIII Carrera por la Paz
DESCRIPTION:Distancias: 5K y 10K
URL:https://www.fororunners.es/event/xiii-carrera-por-la-paz/
LOCATION:Fuenlabrada (Madrid)
CATEGORIES:Carreras
END:VEVENT
BEGIN:VEVENT
DTSTART;TZID=Europe/Madrid:20260524T100000
DTEND;TZID=Europe/Madrid:20260524T113000
DTSTAMP:20260419T224236
CREATED:20260411T183514Z
LAST-MODIFIED:20260411T183514Z
UID:16738-1779616800-1779622200@www.fororunners.es
SUMMARY:II Carrera Solidaria contra la ELA
DESCRIPTION:Distancia: 10K
URL:https://www.fororunners.es/event/ii-carrera-solidaria-contra-la-ela/
LOCATION:Villaviciosa de Odón (Madrid)
END:VEVENT
END:VCALENDAR