BEGIN:VCALENDAR
VERSION:2.0
PRODID:-//Foro Runners - ECPv6.15.20//NONSGML v1.0//EN
CALSCALE:GREGORIAN
METHOD:PUBLISH
X-WR-CALNAME:Foro Runners
X-ORIGINAL-URL:https://www.fororunners.es
X-WR-CALDESC:Eventos para Foro Runners
REFRESH-INTERVAL;VALUE=DURATION:PT1H
X-Robots-Tag:noindex
X-PUBLISHED-TTL:PT1H
BEGIN:VTIMEZONE
TZID:Europe/Madrid
BEGIN:DAYLIGHT
TZOFFSETFROM:+0100
TZOFFSETTO:+0200
TZNAME:CEST
DTSTART:20250330T010000
END:DAYLIGHT
BEGIN:STANDARD
TZOFFSETFROM:+0200
TZOFFSETTO:+0100
TZNAME:CET
DTSTART:20251026T010000
END:STANDARD
BEGIN:DAYLIGHT
TZOFFSETFROM:+0100
TZOFFSETTO:+0200
TZNAME:CEST
DTSTART:20260329T010000
END:DAYLIGHT
BEGIN:STANDARD
TZOFFSETFROM:+0200
TZOFFSETTO:+0100
TZNAME:CET
DTSTART:20261025T010000
END:STANDARD
BEGIN:DAYLIGHT
TZOFFSETFROM:+0100
TZOFFSETTO:+0200
TZNAME:CEST
DTSTART:20270328T010000
END:DAYLIGHT
BEGIN:STANDARD
TZOFFSETFROM:+0200
TZOFFSETTO:+0100
TZNAME:CET
DTSTART:20271031T010000
END:STANDARD
END:VTIMEZONE
BEGIN:VEVENT
DTSTART;TZID=Europe/Madrid:20260419T090000
DTEND;TZID=Europe/Madrid:20260419T103000
DTSTAMP:20260419T223645
CREATED:20260228T161121Z
LAST-MODIFIED:20260228T161121Z
UID:16376-1776589200-1776594600@www.fororunners.es
SUMMARY:10 Km y 5 Km Populares Trofeo Síndrome de Sanfilippo
DESCRIPTION:Distancia: 5K y 10K
URL:https://www.fororunners.es/event/10-km-y-5-km-populares-trofeo-sindrome-de-sanfilippo/
LOCATION:Madrid
CATEGORIES:Carreras
END:VEVENT
BEGIN:VEVENT
DTSTART;TZID=Europe/Madrid:20260419T090000
DTEND;TZID=Europe/Madrid:20260419T103000
DTSTAMP:20260419T223645
CREATED:20260228T161606Z
LAST-MODIFIED:20260228T161606Z
UID:16378-1776589200-1776594600@www.fororunners.es
SUMMARY:XIII Carrera Madrid en Marcha Contra el Cáncer
DESCRIPTION:Distancias: 4\,5K y 10K
URL:https://www.fororunners.es/event/xiii-carrera-madrid-en-marcha-contra-el-cancer/
LOCATION:Madrid
CATEGORIES:Carreras
END:VEVENT
BEGIN:VEVENT
DTSTART;TZID=Europe/Madrid:20260419T090000
DTEND;TZID=Europe/Madrid:20260419T103000
DTSTAMP:20260419T223645
CREATED:20260404T102056Z
LAST-MODIFIED:20260404T102056Z
UID:16670-1776589200-1776594600@www.fororunners.es
SUMMARY:Carrera Solidaria Arturo Soria Plaza
DESCRIPTION:Distancias: 5K y 10K
URL:https://www.fororunners.es/event/carrera-solidaria-arturo-soria-plaza/
LOCATION:Madrid
CATEGORIES:Carreras
END:VEVENT
BEGIN:VEVENT
DTSTART;TZID=Europe/Madrid:20260419T093000
DTEND;TZID=Europe/Madrid:20260419T110000
DTSTAMP:20260419T223645
CREATED:20260321T121415Z
LAST-MODIFIED:20260321T121415Z
UID:16576-1776591000-1776596400@www.fororunners.es
SUMMARY:VII Carrera solidaria PROYDE La Salle Griñón
DESCRIPTION:Distancias: 5K y 10K \n 
URL:https://www.fororunners.es/event/vii-carrera-solidaria-proyde-la-salle-grinon/
LOCATION:Griñón (Madrid)
CATEGORIES:Carreras
END:VEVENT
BEGIN:VEVENT
DTSTART;TZID=Europe/Madrid:20260419T093000
DTEND;TZID=Europe/Madrid:20260419T110000
DTSTAMP:20260419T223645
CREATED:20260328T223245Z
LAST-MODIFIED:20260328T223245Z
UID:16624-1776591000-1776596400@www.fororunners.es
SUMMARY:XLV Carrera Popular de San Fernando de Henares - Memorial Germán Tejada
DESCRIPTION:Distancia: 10K
URL:https://www.fororunners.es/event/xlv-carrera-popular-de-san-fernando-de-henares-memorial-german-tejada/
LOCATION:San Fernando de Henares (Madrid)
CATEGORIES:Carreras
END:VEVENT
BEGIN:VEVENT
DTSTART;TZID=Europe/Madrid:20260419T100000
DTEND;TZID=Europe/Madrid:20260419T113000
DTSTAMP:20260419T223645
CREATED:20260314T182656Z
LAST-MODIFIED:20260314T182656Z
UID:16515-1776592800-1776598200@www.fororunners.es
SUMMARY:XIV Carrera Popular PAU Vallecas
DESCRIPTION:Distancias: 5K y 10K
URL:https://www.fororunners.es/event/xiv-carrera-popular-pau-vallecas/
LOCATION:Madrid
CATEGORIES:Carreras
END:VEVENT
BEGIN:VEVENT
DTSTART;TZID=Europe/Madrid:20260419T100000
DTEND;TZID=Europe/Madrid:20260419T123000
DTSTAMP:20260419T223645
CREATED:20260307T083651Z
LAST-MODIFIED:20260307T083651Z
UID:16442-1776592800-1776601800@www.fororunners.es
SUMMARY:Media Maratón Rockera y 10K Villaverde
DESCRIPTION:Distancias: Media Maratón y 10K
URL:https://www.fororunners.es/event/media-maraton-rockera-y-10k-villaverde/
LOCATION:Madrid
CATEGORIES:Carreras
END:VEVENT
END:VCALENDAR