BEGIN:VCALENDAR
VERSION:2.0
PRODID:-//Foro Runners - ECPv6.15.20//NONSGML v1.0//EN
CALSCALE:GREGORIAN
METHOD:PUBLISH
X-WR-CALNAME:Foro Runners
X-ORIGINAL-URL:https://www.fororunners.es
X-WR-CALDESC:Eventos para Foro Runners
REFRESH-INTERVAL;VALUE=DURATION:PT1H
X-Robots-Tag:noindex
X-PUBLISHED-TTL:PT1H
BEGIN:VTIMEZONE
TZID:Europe/Madrid
BEGIN:DAYLIGHT
TZOFFSETFROM:+0100
TZOFFSETTO:+0200
TZNAME:CEST
DTSTART:20250330T010000
END:DAYLIGHT
BEGIN:STANDARD
TZOFFSETFROM:+0200
TZOFFSETTO:+0100
TZNAME:CET
DTSTART:20251026T010000
END:STANDARD
BEGIN:DAYLIGHT
TZOFFSETFROM:+0100
TZOFFSETTO:+0200
TZNAME:CEST
DTSTART:20260329T010000
END:DAYLIGHT
BEGIN:STANDARD
TZOFFSETFROM:+0200
TZOFFSETTO:+0100
TZNAME:CET
DTSTART:20261025T010000
END:STANDARD
BEGIN:DAYLIGHT
TZOFFSETFROM:+0100
TZOFFSETTO:+0200
TZNAME:CEST
DTSTART:20270328T010000
END:DAYLIGHT
BEGIN:STANDARD
TZOFFSETFROM:+0200
TZOFFSETTO:+0100
TZNAME:CET
DTSTART:20271031T010000
END:STANDARD
END:VTIMEZONE
BEGIN:VEVENT
DTSTART;TZID=Europe/Madrid:20260510T090000
DTEND;TZID=Europe/Madrid:20260510T103000
DTSTAMP:20260419T221328
CREATED:20260404T104523Z
LAST-MODIFIED:20260404T104523Z
UID:16680-1778403600-1778409000@www.fororunners.es
SUMMARY:XXIII Carrera Popular Barrio Zofío
DESCRIPTION:Distancias: 5K y 10K
URL:https://www.fororunners.es/event/xxiii-carrera-popular-barrio-zofio/
LOCATION:Madrid
CATEGORIES:Carreras
END:VEVENT
BEGIN:VEVENT
DTSTART;TZID=Europe/Madrid:20260510T093000
DTEND;TZID=Europe/Madrid:20260510T110000
DTSTAMP:20260419T221328
CREATED:20260404T102349Z
LAST-MODIFIED:20260404T102349Z
UID:16673-1778405400-1778410800@www.fororunners.es
SUMMARY:II Carrera Solidaria Km Frente al Cáncer de San Sebastián de Los Reyes
DESCRIPTION:Distancias: 5K y 10K
URL:https://www.fororunners.es/event/ii-carrera-solidaria-km-frente-al-cancer-de-san-sebastian-de-los-reyes/
LOCATION:San Sebastián de los Reyes (Madrid)
CATEGORIES:Carreras
END:VEVENT
END:VCALENDAR