BEGIN:VCALENDAR
VERSION:2.0
PRODID:-//Foro Runners - ECPv6.15.20//NONSGML v1.0//EN
CALSCALE:GREGORIAN
METHOD:PUBLISH
X-ORIGINAL-URL:https://www.fororunners.es
X-WR-CALDESC:Eventos para Foro Runners
REFRESH-INTERVAL;VALUE=DURATION:PT1H
X-Robots-Tag:noindex
X-PUBLISHED-TTL:PT1H
BEGIN:VTIMEZONE
TZID:Europe/Madrid
BEGIN:DAYLIGHT
TZOFFSETFROM:+0100
TZOFFSETTO:+0200
TZNAME:CEST
DTSTART:20250330T010000
END:DAYLIGHT
BEGIN:STANDARD
TZOFFSETFROM:+0200
TZOFFSETTO:+0100
TZNAME:CET
DTSTART:20251026T010000
END:STANDARD
BEGIN:DAYLIGHT
TZOFFSETFROM:+0100
TZOFFSETTO:+0200
TZNAME:CEST
DTSTART:20260329T010000
END:DAYLIGHT
BEGIN:STANDARD
TZOFFSETFROM:+0200
TZOFFSETTO:+0100
TZNAME:CET
DTSTART:20261025T010000
END:STANDARD
BEGIN:DAYLIGHT
TZOFFSETFROM:+0100
TZOFFSETTO:+0200
TZNAME:CEST
DTSTART:20270328T010000
END:DAYLIGHT
BEGIN:STANDARD
TZOFFSETFROM:+0200
TZOFFSETTO:+0100
TZNAME:CET
DTSTART:20271031T010000
END:STANDARD
END:VTIMEZONE
BEGIN:VEVENT
DTSTART;TZID=Europe/Madrid:20260509T110000
DTEND;TZID=Europe/Madrid:20260509T123000
DTSTAMP:20260419T202800
CREATED:20260329T165629Z
LAST-MODIFIED:20260329T165629Z
UID:16633-1778324400-1778329800@www.fororunners.es
SUMMARY:VIII Carrera Solidaria Cáritas Sierra
DESCRIPTION:Distancias: 5K y 10K
URL:https://www.fororunners.es/event/viii-carrera-solidaria-caritas-sierra/
LOCATION:El Escorial (Madrid)
CATEGORIES:Carreras
END:VEVENT
BEGIN:VEVENT
DTSTART;TZID=Europe/Madrid:20260510T090000
DTEND;TZID=Europe/Madrid:20260510T103000
DTSTAMP:20260419T202800
CREATED:20260404T104523Z
LAST-MODIFIED:20260404T104523Z
UID:16680-1778403600-1778409000@www.fororunners.es
SUMMARY:XXIII Carrera Popular Barrio Zofío
DESCRIPTION:Distancias: 5K y 10K
URL:https://www.fororunners.es/event/xxiii-carrera-popular-barrio-zofio/
LOCATION:Madrid
CATEGORIES:Carreras
END:VEVENT
BEGIN:VEVENT
DTSTART;TZID=Europe/Madrid:20260510T093000
DTEND;TZID=Europe/Madrid:20260510T110000
DTSTAMP:20260419T202800
CREATED:20260404T102349Z
LAST-MODIFIED:20260404T102349Z
UID:16673-1778405400-1778410800@www.fororunners.es
SUMMARY:II Carrera Solidaria Km Frente al Cáncer de San Sebastián de Los Reyes
DESCRIPTION:Distancias: 5K y 10K
URL:https://www.fororunners.es/event/ii-carrera-solidaria-km-frente-al-cancer-de-san-sebastian-de-los-reyes/
LOCATION:San Sebastián de los Reyes (Madrid)
CATEGORIES:Carreras
END:VEVENT
BEGIN:VEVENT
DTSTART;TZID=Europe/Madrid:20260517T084500
DTEND;TZID=Europe/Madrid:20260517T110000
DTSTAMP:20260419T202800
CREATED:20260411T162953Z
LAST-MODIFIED:20260411T162953Z
UID:16733-1779007500-1779015600@www.fororunners.es
SUMMARY:IX Carrera Solidaria Fundación Real Madrid by Azulmarino
DESCRIPTION:Distancia: 5K y 10K
URL:https://www.fororunners.es/event/ix-carrera-solidaria-fundacion-real-madrid-by-azulmarino/
LOCATION:Madrid
CATEGORIES:Carreras
END:VEVENT
BEGIN:VEVENT
DTSTART;TZID=Europe/Madrid:20260524T083000
DTEND;TZID=Europe/Madrid:20260524T110000
DTSTAMP:20260419T202800
CREATED:20260418T175831Z
LAST-MODIFIED:20260418T175831Z
UID:16790-1779611400-1779620400@www.fororunners.es
SUMMARY:VI Media Maratón y 10K de Carabanchel
DESCRIPTION:Distancias: Media Maratón y 10K
URL:https://www.fororunners.es/event/vi-media-maraton-y-10k-de-carabanchel/
LOCATION:Madrid
CATEGORIES:Carreras
END:VEVENT
BEGIN:VEVENT
DTSTART;TZID=Europe/Madrid:20260524T090000
DTEND;TZID=Europe/Madrid:20260524T103000
DTSTAMP:20260419T202800
CREATED:20260418T173255Z
LAST-MODIFIED:20260418T173255Z
UID:16780-1779613200-1779618600@www.fororunners.es
SUMMARY:VII Carrera Popular El Buen Pastor
DESCRIPTION:Distancias: 5K y 10K
URL:https://www.fororunners.es/event/vii-carrera-popular-el-buen-pastor/
LOCATION:Madrid
CATEGORIES:Carreras
END:VEVENT
BEGIN:VEVENT
DTSTART;TZID=Europe/Madrid:20260524T090000
DTEND;TZID=Europe/Madrid:20260524T103000
DTSTAMP:20260419T202800
CREATED:20260418T173910Z
LAST-MODIFIED:20260418T173910Z
UID:16782-1779613200-1779618600@www.fororunners.es
SUMMARY:4ª InRACE Madrid
DESCRIPTION:Distancias: 5K y 10K
URL:https://www.fororunners.es/event/4a-inrace-madrid/
LOCATION:Madrid
CATEGORIES:Carreras
END:VEVENT
BEGIN:VEVENT
DTSTART;TZID=Europe/Madrid:20260524T090000
DTEND;TZID=Europe/Madrid:20260524T103000
DTSTAMP:20260419T202800
CREATED:20260418T174309Z
LAST-MODIFIED:20260418T174309Z
UID:16784-1779613200-1779618600@www.fororunners.es
SUMMARY:XXXIII Carrera MAUX
DESCRIPTION:Distancias: 5K y 10K
URL:https://www.fororunners.es/event/xxxiii-carrera-maux/
CATEGORIES:Carreras
END:VEVENT
BEGIN:VEVENT
DTSTART;TZID=Europe/Madrid:20260524T100000
DTEND;TZID=Europe/Madrid:20260524T113000
DTSTAMP:20260419T202800
CREATED:20260409T065002Z
LAST-MODIFIED:20260409T065002Z
UID:16720-1779616800-1779622200@www.fororunners.es
SUMMARY:XIII Carrera por la Paz
DESCRIPTION:Distancias: 5K y 10K
URL:https://www.fororunners.es/event/xiii-carrera-por-la-paz/
LOCATION:Fuenlabrada (Madrid)
CATEGORIES:Carreras
END:VEVENT
BEGIN:VEVENT
DTSTART;TZID=Europe/Madrid:20260524T100000
DTEND;TZID=Europe/Madrid:20260524T113000
DTSTAMP:20260419T202800
CREATED:20260411T183514Z
LAST-MODIFIED:20260411T183514Z
UID:16738-1779616800-1779622200@www.fororunners.es
SUMMARY:II Carrera Solidaria contra la ELA
DESCRIPTION:Distancia: 10K
URL:https://www.fororunners.es/event/ii-carrera-solidaria-contra-la-ela/
LOCATION:Villaviciosa de Odón (Madrid)
END:VEVENT
END:VCALENDAR