BEGIN:VCALENDAR
VERSION:2.0
PRODID:-//Foro Runners - ECPv6.15.20//NONSGML v1.0//EN
CALSCALE:GREGORIAN
METHOD:PUBLISH
X-ORIGINAL-URL:https://www.fororunners.es
X-WR-CALDESC:Eventos para Foro Runners
REFRESH-INTERVAL;VALUE=DURATION:PT1H
X-Robots-Tag:noindex
X-PUBLISHED-TTL:PT1H
BEGIN:VTIMEZONE
TZID:Europe/Madrid
BEGIN:DAYLIGHT
TZOFFSETFROM:+0100
TZOFFSETTO:+0200
TZNAME:CEST
DTSTART:20250330T010000
END:DAYLIGHT
BEGIN:STANDARD
TZOFFSETFROM:+0200
TZOFFSETTO:+0100
TZNAME:CET
DTSTART:20251026T010000
END:STANDARD
BEGIN:DAYLIGHT
TZOFFSETFROM:+0100
TZOFFSETTO:+0200
TZNAME:CEST
DTSTART:20260329T010000
END:DAYLIGHT
BEGIN:STANDARD
TZOFFSETFROM:+0200
TZOFFSETTO:+0100
TZNAME:CET
DTSTART:20261025T010000
END:STANDARD
BEGIN:DAYLIGHT
TZOFFSETFROM:+0100
TZOFFSETTO:+0200
TZNAME:CEST
DTSTART:20270328T010000
END:DAYLIGHT
BEGIN:STANDARD
TZOFFSETFROM:+0200
TZOFFSETTO:+0100
TZNAME:CET
DTSTART:20271031T010000
END:STANDARD
END:VTIMEZONE
BEGIN:VEVENT
DTSTART;TZID=Europe/Madrid:20260424T120000
DTEND;TZID=Europe/Madrid:20260424T130000
DTSTAMP:20260419T203301
CREATED:20260314T183627Z
LAST-MODIFIED:20260314T183627Z
UID:16521-1777032000-1777035600@www.fororunners.es
SUMMARY:20 Milla Solidaria Monte Tabor Schoenstatt - Casa de Campo
DESCRIPTION:Distancia: 5.2K
URL:https://www.fororunners.es/event/20-milla-solidaria-monte-tabor-schoenstatt-casa-de-campo/
LOCATION:Pozuelo de Alarcón (Madrid)
CATEGORIES:Carreras
END:VEVENT
END:VCALENDAR