BEGIN:VCALENDAR
VERSION:2.0
PRODID:-//Foro Runners - ECPv6.15.20//NONSGML v1.0//EN
CALSCALE:GREGORIAN
METHOD:PUBLISH
X-ORIGINAL-URL:https://www.fororunners.es
X-WR-CALDESC:Eventos para Foro Runners
REFRESH-INTERVAL;VALUE=DURATION:PT1H
X-Robots-Tag:noindex
X-PUBLISHED-TTL:PT1H
BEGIN:VTIMEZONE
TZID:Europe/Madrid
BEGIN:DAYLIGHT
TZOFFSETFROM:+0100
TZOFFSETTO:+0200
TZNAME:CEST
DTSTART:20250330T010000
END:DAYLIGHT
BEGIN:STANDARD
TZOFFSETFROM:+0200
TZOFFSETTO:+0100
TZNAME:CET
DTSTART:20251026T010000
END:STANDARD
BEGIN:DAYLIGHT
TZOFFSETFROM:+0100
TZOFFSETTO:+0200
TZNAME:CEST
DTSTART:20260329T010000
END:DAYLIGHT
BEGIN:STANDARD
TZOFFSETFROM:+0200
TZOFFSETTO:+0100
TZNAME:CET
DTSTART:20261025T010000
END:STANDARD
BEGIN:DAYLIGHT
TZOFFSETFROM:+0100
TZOFFSETTO:+0200
TZNAME:CEST
DTSTART:20270328T010000
END:DAYLIGHT
BEGIN:STANDARD
TZOFFSETFROM:+0200
TZOFFSETTO:+0100
TZNAME:CET
DTSTART:20271031T010000
END:STANDARD
END:VTIMEZONE
BEGIN:VEVENT
DTSTART;TZID=Europe/Madrid:20260412T093000
DTEND;TZID=Europe/Madrid:20260412T110000
DTSTAMP:20260419T203454
CREATED:20260228T164105Z
LAST-MODIFIED:20260228T164105Z
UID:16389-1775986200-1775991600@www.fororunners.es
SUMMARY:VIII Carrera por la Hemofilia
DESCRIPTION:Distancias: 3K\, 6K y 9K
URL:https://www.fororunners.es/event/viii-carrera-por-la-hemofilia/
LOCATION:Madrid
CATEGORIES:Carreras
END:VEVENT
BEGIN:VEVENT
DTSTART;TZID=Europe/Madrid:20260412T093000
DTEND;TZID=Europe/Madrid:20260412T110000
DTSTAMP:20260419T203454
CREATED:20260228T164404Z
LAST-MODIFIED:20260228T164404Z
UID:16391-1775986200-1775991600@www.fororunners.es
SUMMARY:XIV Carrera BOMBEROS de Madrid
DESCRIPTION:Distancia: 10K
URL:https://www.fororunners.es/event/xiv-carrera-bomberos-de-madrid/
LOCATION:Madrid
CATEGORIES:Carreras
END:VEVENT
BEGIN:VEVENT
DTSTART;TZID=Europe/Madrid:20260412T100000
DTEND;TZID=Europe/Madrid:20260412T110000
DTSTAMP:20260419T203454
CREATED:20260326T124322Z
LAST-MODIFIED:20260326T124322Z
UID:16616-1775988000-1775991600@www.fororunners.es
SUMMARY:II Milla urbana Tres Cantos
DESCRIPTION:Distancia: Milla
URL:https://www.fororunners.es/event/ii-milla-urbana-tres-cantos/
LOCATION:Tres Cantos (Madrid)
CATEGORIES:Carreras
END:VEVENT
BEGIN:VEVENT
DTSTART;TZID=Europe/Madrid:20260412T100000
DTEND;TZID=Europe/Madrid:20260412T113000
DTSTAMP:20260419T203454
CREATED:20260314T183318Z
LAST-MODIFIED:20260314T183318Z
UID:16519-1775988000-1775993400@www.fororunners.es
SUMMARY:XLI Carrera de primavera de Mejorada del Campo
DESCRIPTION:Distancias: 5K y 10K
URL:https://www.fororunners.es/event/xli-carrera-de-primavera-de-mejorada-del-campo/
LOCATION:Mejorada del Campo (Madrid)
CATEGORIES:Carreras
END:VEVENT
BEGIN:VEVENT
DTSTART;TZID=Europe/Madrid:20260412T101500
DTEND;TZID=Europe/Madrid:20260412T111500
DTSTAMP:20260419T203454
CREATED:20260328T223027Z
LAST-MODIFIED:20260328T223027Z
UID:16622-1775988900-1775992500@www.fororunners.es
SUMMARY:I Cross Challenge El Olivar Torrejón de Ardoz
DESCRIPTION:Distancia: Según Categoría
URL:https://www.fororunners.es/event/i-cross-challenge-el-olivar-torrejon-de-ardoz/
LOCATION:Torrejón de Ardoz (Madrid)
CATEGORIES:Carreras
END:VEVENT
BEGIN:VEVENT
DTSTART;TZID=Europe/Madrid:20260412T103000
DTEND;TZID=Europe/Madrid:20260412T113000
DTSTAMP:20260419T203454
CREATED:20260228T190431Z
LAST-MODIFIED:20260228T190431Z
UID:16396-1775989800-1775993400@www.fororunners.es
SUMMARY:XXVIII Carrera Popular de Colmenarejo
DESCRIPTION:Distancia: 6K
URL:https://www.fororunners.es/event/xxviii-carrera-popular-de-colmenarejo/
LOCATION:Colmenarejo (Madrid)
CATEGORIES:Carreras
END:VEVENT
END:VCALENDAR