BEGIN:VCALENDAR
VERSION:2.0
PRODID:-//Foro Runners - ECPv6.15.20//NONSGML v1.0//EN
CALSCALE:GREGORIAN
METHOD:PUBLISH
X-WR-CALNAME:Foro Runners
X-ORIGINAL-URL:https://www.fororunners.es
X-WR-CALDESC:Eventos para Foro Runners
REFRESH-INTERVAL;VALUE=DURATION:PT1H
X-Robots-Tag:noindex
X-PUBLISHED-TTL:PT1H
BEGIN:VTIMEZONE
TZID:Europe/Madrid
BEGIN:DAYLIGHT
TZOFFSETFROM:+0100
TZOFFSETTO:+0200
TZNAME:CEST
DTSTART:20250330T010000
END:DAYLIGHT
BEGIN:STANDARD
TZOFFSETFROM:+0200
TZOFFSETTO:+0100
TZNAME:CET
DTSTART:20251026T010000
END:STANDARD
BEGIN:DAYLIGHT
TZOFFSETFROM:+0100
TZOFFSETTO:+0200
TZNAME:CEST
DTSTART:20260329T010000
END:DAYLIGHT
BEGIN:STANDARD
TZOFFSETFROM:+0200
TZOFFSETTO:+0100
TZNAME:CET
DTSTART:20261025T010000
END:STANDARD
BEGIN:DAYLIGHT
TZOFFSETFROM:+0100
TZOFFSETTO:+0200
TZNAME:CEST
DTSTART:20270328T010000
END:DAYLIGHT
BEGIN:STANDARD
TZOFFSETFROM:+0200
TZOFFSETTO:+0100
TZNAME:CET
DTSTART:20271031T010000
END:STANDARD
END:VTIMEZONE
BEGIN:VEVENT
DTSTART;TZID=Europe/Madrid:20260523T110000
DTEND;TZID=Europe/Madrid:20260523T120000
DTSTAMP:20260421T143312
CREATED:20260418T172642Z
LAST-MODIFIED:20260418T172642Z
UID:16778-1779534000-1779537600@www.fororunners.es
SUMMARY:XIII Carrera Popular Psicología por la Salud
DESCRIPTION:Distancia: 5K
URL:https://www.fororunners.es/event/xiii-carrera-popular-psicologia-por-la-salud/
LOCATION:Pozuelo de Alarcón (Madrid)
CATEGORIES:Carreras
END:VEVENT
BEGIN:VEVENT
DTSTART;TZID=Europe/Madrid:20260523T183000
DTEND;TZID=Europe/Madrid:20260523T193000
DTSTAMP:20260421T143312
CREATED:20260411T184340Z
LAST-MODIFIED:20260411T184340Z
UID:16741-1779561000-1779564600@www.fororunners.es
SUMMARY:XIII Legua Popular de Valdaracete
DESCRIPTION:Distancia: Legua (5600 metros)
URL:https://www.fororunners.es/event/xiii-legua-popular-de-valdaracete/
LOCATION:Valdaracete (Madrid)
CATEGORIES:Carreras
END:VEVENT
END:VCALENDAR