BEGIN:VCALENDAR
VERSION:2.0
PRODID:-//Foro Runners - ECPv6.15.20//NONSGML v1.0//EN
CALSCALE:GREGORIAN
METHOD:PUBLISH
X-WR-CALNAME:Foro Runners
X-ORIGINAL-URL:https://www.fororunners.es
X-WR-CALDESC:Eventos para Foro Runners
REFRESH-INTERVAL;VALUE=DURATION:PT1H
X-Robots-Tag:noindex
X-PUBLISHED-TTL:PT1H
BEGIN:VTIMEZONE
TZID:Europe/Madrid
BEGIN:DAYLIGHT
TZOFFSETFROM:+0100
TZOFFSETTO:+0200
TZNAME:CEST
DTSTART:20250330T010000
END:DAYLIGHT
BEGIN:STANDARD
TZOFFSETFROM:+0200
TZOFFSETTO:+0100
TZNAME:CET
DTSTART:20251026T010000
END:STANDARD
BEGIN:DAYLIGHT
TZOFFSETFROM:+0100
TZOFFSETTO:+0200
TZNAME:CEST
DTSTART:20260329T010000
END:DAYLIGHT
BEGIN:STANDARD
TZOFFSETFROM:+0200
TZOFFSETTO:+0100
TZNAME:CET
DTSTART:20261025T010000
END:STANDARD
BEGIN:DAYLIGHT
TZOFFSETFROM:+0100
TZOFFSETTO:+0200
TZNAME:CEST
DTSTART:20270328T010000
END:DAYLIGHT
BEGIN:STANDARD
TZOFFSETFROM:+0200
TZOFFSETTO:+0100
TZNAME:CET
DTSTART:20271031T010000
END:STANDARD
END:VTIMEZONE
BEGIN:VEVENT
DTSTART;TZID=Europe/Madrid:20260426T080000
DTEND;TZID=Europe/Madrid:20260426T140000
DTSTAMP:20260421T123947
CREATED:20260314T171112Z
LAST-MODIFIED:20260314T171112Z
UID:16503-1777190400-1777212000@www.fororunners.es
SUMMARY:Zurich Rock´n´Roll Running Series Madrid 2026
DESCRIPTION:Distancias: 10K\, Media Maratón y Maratón
URL:https://www.fororunners.es/event/zurich-rocknroll-running-series-madrid-2026/
LOCATION:Madrid
CATEGORIES:Carreras
END:VEVENT
BEGIN:VEVENT
DTSTART;TZID=Europe/Madrid:20260426T093000
DTEND;TZID=Europe/Madrid:20260426T123000
DTSTAMP:20260421T123947
CREATED:20260314T184737Z
LAST-MODIFIED:20260314T184737Z
UID:16525-1777195800-1777206600@www.fororunners.es
SUMMARY:IV Trail Mina de la Plata
DESCRIPTION:Distancias: 20K\, 14K y 8K
URL:https://www.fororunners.es/event/iv-trail-mina-de-la-plata/
LOCATION:Bustarviejo (Madrid)
CATEGORIES:Carreras
END:VEVENT
BEGIN:VEVENT
DTSTART;TZID=Europe/Madrid:20260426T100000
DTEND;TZID=Europe/Madrid:20260426T110000
DTSTAMP:20260421T123947
CREATED:20260314T171405Z
LAST-MODIFIED:20260314T171405Z
UID:16505-1777197600-1777201200@www.fororunners.es
SUMMARY:II Carrera Inclusiva de la Fundación Luis Orione
DESCRIPTION:Distancia: 5K
URL:https://www.fororunners.es/event/ii-carrera-inclusiva-de-la-fundacion-luis-orione/
LOCATION:Pozuelo de Alarcón (Madrid)
CATEGORIES:Carreras
END:VEVENT
BEGIN:VEVENT
DTSTART;TZID=Europe/Madrid:20260426T100000
DTEND;TZID=Europe/Madrid:20260426T120000
DTSTAMP:20260421T123947
CREATED:20260314T171913Z
LAST-MODIFIED:20260314T171913Z
UID:16507-1777197600-1777204800@www.fororunners.es
SUMMARY:2º Trail del Capellán de Valdilecha
DESCRIPTION:Distancia: 10.3K
URL:https://www.fororunners.es/event/2o-trail-del-capellan-de-valdilecha/
LOCATION:Valdilecha (Madrid)
CATEGORIES:Carreras
END:VEVENT
BEGIN:VEVENT
DTSTART;TZID=Europe/Madrid:20260426T110000
DTEND;TZID=Europe/Madrid:20260426T120000
DTSTAMP:20260421T123947
CREATED:20260410T104315Z
LAST-MODIFIED:20260410T104315Z
UID:16722-1777201200-1777204800@www.fororunners.es
SUMMARY:Sexto Corre hacia la Manga
DESCRIPTION:Distancias: 5K y 2K
URL:https://www.fororunners.es/event/sexto-corre-hacia-la-manga/
LOCATION:Rivas Vaciamadrid (Madrid)
CATEGORIES:Carreras
END:VEVENT
END:VCALENDAR