BEGIN:VCALENDAR
VERSION:2.0
PRODID:-//Foro Runners - ECPv6.15.20//NONSGML v1.0//EN
CALSCALE:GREGORIAN
METHOD:PUBLISH
X-WR-CALNAME:Foro Runners
X-ORIGINAL-URL:https://www.fororunners.es
X-WR-CALDESC:Eventos para Foro Runners
REFRESH-INTERVAL;VALUE=DURATION:PT1H
X-Robots-Tag:noindex
X-PUBLISHED-TTL:PT1H
BEGIN:VTIMEZONE
TZID:Europe/Madrid
BEGIN:DAYLIGHT
TZOFFSETFROM:+0100
TZOFFSETTO:+0200
TZNAME:CEST
DTSTART:20240331T010000
END:DAYLIGHT
BEGIN:STANDARD
TZOFFSETFROM:+0200
TZOFFSETTO:+0100
TZNAME:CET
DTSTART:20241027T010000
END:STANDARD
BEGIN:DAYLIGHT
TZOFFSETFROM:+0100
TZOFFSETTO:+0200
TZNAME:CEST
DTSTART:20250330T010000
END:DAYLIGHT
BEGIN:STANDARD
TZOFFSETFROM:+0200
TZOFFSETTO:+0100
TZNAME:CET
DTSTART:20251026T010000
END:STANDARD
BEGIN:DAYLIGHT
TZOFFSETFROM:+0100
TZOFFSETTO:+0200
TZNAME:CEST
DTSTART:20260329T010000
END:DAYLIGHT
BEGIN:STANDARD
TZOFFSETFROM:+0200
TZOFFSETTO:+0100
TZNAME:CET
DTSTART:20261025T010000
END:STANDARD
END:VTIMEZONE
BEGIN:VEVENT
DTSTART;TZID=Europe/Madrid:20251206T093000
DTEND;TZID=Europe/Madrid:20251206T103000
DTSTAMP:20260421T125746
CREATED:20251122T194451Z
LAST-MODIFIED:20251122T194451Z
UID:15787-1765013400-1765017000@www.fororunners.es
SUMMARY:XXXVIII Carrera Popular Día de la Constitución
DESCRIPTION:Distancia: 5K
URL:https://www.fororunners.es/event/xxxviii-carrera-popular-dia-de-la-constitucion/
LOCATION:Torrejón de Ardoz (Madrid)
CATEGORIES:Carreras
END:VEVENT
BEGIN:VEVENT
DTSTART;TZID=Europe/Madrid:20251206T110000
DTEND;TZID=Europe/Madrid:20251206T123000
DTSTAMP:20260421T125746
CREATED:20251101T174027Z
LAST-MODIFIED:20251101T174027Z
UID:15661-1765018800-1765024200@www.fororunners.es
SUMMARY:XXXVI Carrera Popular de la Constitución de Barajas
DESCRIPTION:Distancia: 8K
URL:https://www.fororunners.es/event/xxxvi-carrera-popular-de-la-constitucion-de-barajas/
LOCATION:Madrid
CATEGORIES:Carreras
END:VEVENT
END:VCALENDAR