BEGIN:VCALENDAR
VERSION:2.0
PRODID:-//Foro Runners - ECPv6.15.20//NONSGML v1.0//EN
CALSCALE:GREGORIAN
METHOD:PUBLISH
X-ORIGINAL-URL:https://www.fororunners.es
X-WR-CALDESC:Eventos para Foro Runners
REFRESH-INTERVAL;VALUE=DURATION:PT1H
X-Robots-Tag:noindex
X-PUBLISHED-TTL:PT1H
BEGIN:VTIMEZONE
TZID:Europe/Madrid
BEGIN:DAYLIGHT
TZOFFSETFROM:+0100
TZOFFSETTO:+0200
TZNAME:CEST
DTSTART:20240331T010000
END:DAYLIGHT
BEGIN:STANDARD
TZOFFSETFROM:+0200
TZOFFSETTO:+0100
TZNAME:CET
DTSTART:20241027T010000
END:STANDARD
BEGIN:DAYLIGHT
TZOFFSETFROM:+0100
TZOFFSETTO:+0200
TZNAME:CEST
DTSTART:20250330T010000
END:DAYLIGHT
BEGIN:STANDARD
TZOFFSETFROM:+0200
TZOFFSETTO:+0100
TZNAME:CET
DTSTART:20251026T010000
END:STANDARD
BEGIN:DAYLIGHT
TZOFFSETFROM:+0100
TZOFFSETTO:+0200
TZNAME:CEST
DTSTART:20260329T010000
END:DAYLIGHT
BEGIN:STANDARD
TZOFFSETFROM:+0200
TZOFFSETTO:+0100
TZNAME:CET
DTSTART:20261025T010000
END:STANDARD
END:VTIMEZONE
BEGIN:VEVENT
DTSTART;TZID=Europe/Madrid:20251010T233000
DTEND;TZID=Europe/Madrid:20251011T233000
DTSTAMP:20260421T134137
CREATED:20250913T165252Z
LAST-MODIFIED:20250913T165252Z
UID:15441-1760139000-1760225400@www.fororunners.es
SUMMARY:Gran Trail de Peñalara 2025
DESCRIPTION:Distancias: Cross Nocturno de Navacerrada (CNN): 11K – XII Trail de Peñalara 60K (TP60); 61K – XV Gran\nTrail de Peñalara (GTP): 103K
URL:https://www.fororunners.es/event/gran-trail-de-penalara-2025/
LOCATION:Navacerrada (Madrid)
CATEGORIES:Carreras
END:VEVENT
BEGIN:VEVENT
DTSTART;TZID=Europe/Madrid:20251011T100000
DTEND;TZID=Europe/Madrid:20251011T110000
DTSTAMP:20260421T134137
CREATED:20250913T165553Z
LAST-MODIFIED:20250913T165553Z
UID:15443-1760176800-1760180400@www.fororunners.es
SUMMARY:DC SUPER HEROES RUN MADRID
DESCRIPTION:Distancia: 6K
URL:https://www.fororunners.es/event/dc-super-heroes-run-madrid/
LOCATION:Madrid
CATEGORIES:Carreras
END:VEVENT
BEGIN:VEVENT
DTSTART;TZID=Europe/Madrid:20251011T100000
DTEND;TZID=Europe/Madrid:20251011T140000
DTSTAMP:20260421T134137
CREATED:20250913T075845Z
LAST-MODIFIED:20250913T075845Z
UID:15427-1760176800-1760191200@www.fororunners.es
SUMMARY:V Carrera Vertical Torre Garena - Cruz Roja Corredor Norte
DESCRIPTION:Distancia: 900 metros + 16pisos
URL:https://www.fororunners.es/event/v-carrera-vertical-torre-garena-cruz-roja-corredor-norte/
LOCATION:Torrejón de Ardoz (Madrid)
CATEGORIES:Carreras
END:VEVENT
BEGIN:VEVENT
DTSTART;TZID=Europe/Madrid:20251011T110000
DTEND;TZID=Europe/Madrid:20251011T123000
DTSTAMP:20260421T134137
CREATED:20250907T102126Z
LAST-MODIFIED:20250907T102308Z
UID:15415-1760180400-1760185800@www.fororunners.es
SUMMARY:13ª Carrera Solidaria a favor de Manos Unidas
DESCRIPTION:Distancias: 5K y 10K
URL:https://www.fororunners.es/event/13a-carrera-solidaria-a-favor-de-manos-unidas/
LOCATION:Torrejón de Ardoz (Madrid)
CATEGORIES:Carreras
END:VEVENT
BEGIN:VEVENT
DTSTART;TZID=Europe/Madrid:20251011T110000
DTEND;TZID=Europe/Madrid:20251011T123000
DTSTAMP:20260421T134137
CREATED:20250913T165958Z
LAST-MODIFIED:20250913T165958Z
UID:15445-1760180400-1760185800@www.fororunners.es
SUMMARY:IV Carrera Contra El Suicidio
DESCRIPTION:Distancias: 5K y 10K
URL:https://www.fororunners.es/event/iv-carrera-contra-el-suicidio/
LOCATION:Madrid
CATEGORIES:Carreras
END:VEVENT
BEGIN:VEVENT
DTSTART;TZID=Europe/Madrid:20251011T163000
DTEND;TZID=Europe/Madrid:20251011T183000
DTSTAMP:20260421T134137
CREATED:20250913T170403Z
LAST-MODIFIED:20250913T170403Z
UID:15447-1760200200-1760207400@www.fororunners.es
SUMMARY:II Trail del Huevo Rodao Carabaña
DESCRIPTION:Distancia: 13.5K
URL:https://www.fororunners.es/event/ii-trail-del-huevo-rodao-carabana/
LOCATION:Carabaña (Madrid)
CATEGORIES:Carreras
END:VEVENT
END:VCALENDAR